BEGIN:VCALENDAR
VERSION:2.0
PRODID:-// - ECPv5.13.0//NONSGML v1.0//EN
CALSCALE:GREGORIAN
METHOD:PUBLISH
X-ORIGINAL-URL:http://policyfix.ca
X-WR-CALDESC:Events for 
REFRESH-INTERVAL;VALUE=DURATION:PT1H
X-Robots-Tag:noindex
X-PUBLISHED-TTL:PT1H
BEGIN:VTIMEZONE
TZID:America/Winnipeg
BEGIN:DAYLIGHT
TZOFFSETFROM:-0600
TZOFFSETTO:-0500
TZNAME:CDT
DTSTART:20220313T080000
END:DAYLIGHT
BEGIN:STANDARD
TZOFFSETFROM:-0500
TZOFFSETTO:-0600
TZNAME:CST
DTSTART:20221106T070000
END:STANDARD
END:VTIMEZONE
BEGIN:VEVENT
DTSTART;TZID=America/Winnipeg:20221013T190000
DTEND;TZID=America/Winnipeg:20221013T200000
DTSTAMP:20260425T141903
CREATED:20220914T162713Z
LAST-MODIFIED:20220914T184947Z
UID:5663-1665687600-1665691200@policyfix.ca
SUMMARY:Speaking Up Fall 2022:  Why Politicians and Big Business Love P3s\, but the Rest of Us Shouldn’t with Simon Enoch
DESCRIPTION:Registration required for event.  Please register for this and other events this fall at http://policyfix.ca/2022/09/14/speaking-up-fall-2022/
URL:http://policyfix.ca/event/speaking-up-why-politicians-and-big-business-love-p3s-but-the-rest-of-us-shouldnt-with-simon-enoch/
LOCATION:Online
CATEGORIES:Public Lecture
END:VEVENT
END:VCALENDAR