BEGIN:VCALENDAR
VERSION:2.0
PRODID:-// - ECPv5.13.0//NONSGML v1.0//EN
CALSCALE:GREGORIAN
METHOD:PUBLISH
X-ORIGINAL-URL:http://policyfix.ca
X-WR-CALDESC:Events for 
REFRESH-INTERVAL;VALUE=DURATION:PT1H
X-Robots-Tag:noindex
X-PUBLISHED-TTL:PT1H
BEGIN:VTIMEZONE
TZID:America/Winnipeg
BEGIN:DAYLIGHT
TZOFFSETFROM:-0600
TZOFFSETTO:-0500
TZNAME:CDT
DTSTART:20220313T080000
END:DAYLIGHT
BEGIN:STANDARD
TZOFFSETFROM:-0500
TZOFFSETTO:-0600
TZNAME:CST
DTSTART:20221106T070000
END:STANDARD
END:VTIMEZONE
BEGIN:VEVENT
DTSTART;TZID=America/Winnipeg:20221110T190000
DTEND;TZID=America/Winnipeg:20221110T201500
DTSTAMP:20260424T215518
CREATED:20221102T193944Z
LAST-MODIFIED:20221107T155418Z
UID:5732-1668106800-1668111300@policyfix.ca
SUMMARY:Speaking UP with Dr. Barry Lavallee "Health Transformation and Innovation for Northern First Nations"
DESCRIPTION:Dr. Barry Lavallee is a member of the Metis community of St. Laurent\, Manitoba and a descendent of Duck Bay and Lake Manitoba First Nations. He is a family physician specializing in Indigenous health and northern practice focused on the healing needs of First Nation and Métis communities. Barry’s research is centered on chronic diseases\, transgenerational trauma\, the impact of colonization on Indigenous communities and international Indigenous health. He was the Director of Student Support and Education for the Centre for Aboriginal Health Education and Indigenous Health UGME Curriculum Lead for the University of Manitoba. He is currently the Chief Executive Officer of Keewatinohk Inniniw Minoayawin INC. (KIM)\, focusing on Health Transformation and Innovation to address inequities for Northern First Nations.
URL:http://policyfix.ca/event/speaking-up-with-dr-barry-lavallee/
LOCATION:Manitoba
CATEGORIES:Public Lecture,Upcoming events
END:VEVENT
END:VCALENDAR