BEGIN:VCALENDAR
VERSION:2.0
PRODID:-// - ECPv5.13.0//NONSGML v1.0//EN
CALSCALE:GREGORIAN
METHOD:PUBLISH
X-ORIGINAL-URL:https://policyfix.ca
X-WR-CALDESC:Events for 
REFRESH-INTERVAL;VALUE=DURATION:PT1H
X-Robots-Tag:noindex
X-PUBLISHED-TTL:PT1H
BEGIN:VTIMEZONE
TZID:America/Winnipeg
BEGIN:DAYLIGHT
TZOFFSETFROM:-0600
TZOFFSETTO:-0500
TZNAME:CDT
DTSTART:20220313T080000
END:DAYLIGHT
BEGIN:STANDARD
TZOFFSETFROM:-0500
TZOFFSETTO:-0600
TZNAME:CST
DTSTART:20221106T070000
END:STANDARD
END:VTIMEZONE
BEGIN:VEVENT
DTSTART;TZID=America/Winnipeg:20220223T113000
DTEND;TZID=America/Winnipeg:20220223T133000
DTSTAMP:20260420T040850
CREATED:20220203T204945Z
LAST-MODIFIED:20220215T213520Z
UID:5387-1645615800-1645623000@policyfix.ca
SUMMARY:State of the Inner City Report Launch
DESCRIPTION:Cover image: Artwork by Jackie Traverse created for Red River College Polytechnic’s Exchange District Campus Manitou a bi Bii daziigae building at 319 Elgin Ave. Collection of RRC Polytech.\n\n\n\n\n\n11:30 am Joseph Zuken Citizen Activist Award honouring Harold Dyck\, lifelong anti-poverty activist\, educator and advocate. 12:00 pm Launch State of the Inner City report: \n\n\n\nPlacing Community at the Heart of the Recovery from COVID by Lila Asher\, Kayla Villebrun-Normand and Sarah Cooper & \nWhat’s Going on with Portage Place by Owen Toews \nRegister HERE
URL:https://policyfix.ca/event/state-of-the-inner-city-report-launch/
CATEGORIES:State of the Inner City Report,Upcoming events
END:VEVENT
END:VCALENDAR